Package: orthos Version: 1.0.1 Command: /home/biocbuild/bbs-3.18-bioc/R/bin/R CMD check --install=check:orthos.install-out.txt --library=/home/biocbuild/bbs-3.18-bioc/R/site-library --timings orthos_1.0.1.tar.gz StartedAt: 2024-04-16 01:54:00 -0400 (Tue, 16 Apr 2024) EndedAt: 2024-04-16 02:17:50 -0400 (Tue, 16 Apr 2024) EllapsedTime: 1430.6 seconds RetCode: 0 Status: OK CheckDir: orthos.Rcheck Warnings: 0