Package: orthos Version: 1.0.1 Command: /home/biocbuild/bbs-3.18-bioc/R/bin/R CMD build --keep-empty-dirs --no-resave-data orthos StartedAt: 2024-04-15 18:22:14 -0400 (Mon, 15 Apr 2024) EndedAt: 2024-04-15 18:27:35 -0400 (Mon, 15 Apr 2024) EllapsedTime: 320.7 seconds RetCode: 0 Status: OK PackageFile: orthos_1.0.1.tar.gz PackageFileSize: 5.182 MiB