Package: orthos Version: 1.0.1 Command: rm -rf orthos.buildbin-libdir && mkdir orthos.buildbin-libdir && /Users/biocbuild/BBS/utils/build-universal.sh orthos_1.0.1.tar.gz /Library/Frameworks/R.framework/Resources/bin/R orthos.buildbin-libdir StartedAt: 2024-03-04 00:55:02 -0500 (Mon, 04 Mar 2024) EndedAt: 2024-03-04 00:55:43 -0500 (Mon, 04 Mar 2024) EllapsedTime: 40.8 seconds RetCode: 0 Status: OK PackageFile: orthos_1.0.1.tgz PackageFileSize: 2.487 MiB