Package: orthos Version: 1.0.0 Command: /home/biocbuild/R/R-4.3.1/bin/R CMD INSTALL orthos StartedAt: 2023-11-01 21:05:54 -0000 (Wed, 01 Nov 2023) EndedAt: 2023-11-01 21:06:29 -0000 (Wed, 01 Nov 2023) EllapsedTime: 34.7 seconds RetCode: 0 Status: OK