Package: oppti Version: 1.16.0 Command: /Library/Frameworks/R.framework/Resources/bin/R CMD build --keep-empty-dirs --no-resave-data oppti StartedAt: 2024-04-15 20:37:21 -0400 (Mon, 15 Apr 2024) EndedAt: 2024-04-15 20:38:15 -0400 (Mon, 15 Apr 2024) EllapsedTime: 53.5 seconds RetCode: 0 Status: OK PackageFile: oppti_1.16.0.tar.gz PackageFileSize: 74.41 KiB