Package: oppti Version: 1.16.0 Command: /Library/Frameworks/R.framework/Resources/bin/R CMD build --keep-empty-dirs --no-resave-data oppti StartedAt: 2024-03-03 17:39:58 -0500 (Sun, 03 Mar 2024) EndedAt: 2024-03-03 17:40:24 -0500 (Sun, 03 Mar 2024) EllapsedTime: 26.0 seconds RetCode: 0 Status: OK PackageFile: oppti_1.16.0.tar.gz PackageFileSize: 74.41 KiB