Package: npGSEA Version: 1.38.0 Command: F:\biocbuild\bbs-3.18-bioc\R\bin\R.exe CMD INSTALL npGSEA StartedAt: 2024-04-15 15:59:37 -0400 (Mon, 15 Apr 2024) EndedAt: 2024-04-15 16:00:04 -0400 (Mon, 15 Apr 2024) EllapsedTime: 27.4 seconds RetCode: 0 Status: OK