Package: nearBynding Version: 1.12.0 Command: /Library/Frameworks/R.framework/Resources/bin/R CMD check --install=check:nearBynding.install-out.txt --library=/Library/Frameworks/R.framework/Resources/library --no-vignettes --timings nearBynding_1.12.0.tar.gz StartedAt: 2024-03-03 22:09:35 -0500 (Sun, 03 Mar 2024) EndedAt: 2024-03-03 22:15:30 -0500 (Sun, 03 Mar 2024) EllapsedTime: 354.3 seconds RetCode: 0 Status: OK CheckDir: nearBynding.Rcheck Warnings: 0