Package: mzID Version: 1.40.0 Command: /home/biocbuild/bbs-3.18-bioc/R/bin/R CMD check --install=check:mzID.install-out.txt --library=/home/biocbuild/bbs-3.18-bioc/R/site-library --timings mzID_1.40.0.tar.gz StartedAt: 2024-04-16 01:24:54 -0400 (Tue, 16 Apr 2024) EndedAt: 2024-04-16 01:25:27 -0400 (Tue, 16 Apr 2024) EllapsedTime: 33.7 seconds RetCode: 0 Status: OK CheckDir: mzID.Rcheck Warnings: 0