Package: mzID Version: 1.40.0 Command: /Library/Frameworks/R.framework/Resources/bin/R CMD check --install=check:mzID.install-out.txt --library=/Library/Frameworks/R.framework/Resources/library --no-vignettes --timings mzID_1.40.0.tar.gz StartedAt: 2024-03-03 22:07:41 -0500 (Sun, 03 Mar 2024) EndedAt: 2024-03-03 22:08:37 -0500 (Sun, 03 Mar 2024) EllapsedTime: 55.5 seconds RetCode: 0 Status: OK CheckDir: mzID.Rcheck Warnings: 0