Package: mzID Version: 1.40.0 Command: /home/biocbuild/R/R-4.3.1/bin/R CMD check --install=check:mzID.install-out.txt --library=/home/biocbuild/R/R-4.3.1/site-library --no-vignettes --timings mzID_1.40.0.tar.gz StartedAt: 2023-11-02 12:36:15 -0000 (Thu, 02 Nov 2023) EndedAt: 2023-11-02 12:36:58 -0000 (Thu, 02 Nov 2023) EllapsedTime: 42.8 seconds RetCode: 0 Status: OK CheckDir: mzID.Rcheck Warnings: 0