Package: multiscan Version: 1.62.0 Command: rm -rf multiscan.buildbin-libdir && mkdir multiscan.buildbin-libdir && F:\biocbuild\bbs-3.18-bioc\R\bin\R.exe CMD INSTALL --build --library=multiscan.buildbin-libdir multiscan_1.62.0.tar.gz StartedAt: 2024-04-16 07:20:45 -0400 (Tue, 16 Apr 2024) EndedAt: 2024-04-16 07:20:56 -0400 (Tue, 16 Apr 2024) EllapsedTime: 10.7 seconds RetCode: 0 Status: OK PackageFile: multiscan_1.62.0.zip PackageFileSize: 564.8 KiB