Package: monocle Version: 2.30.0 Command: rm -rf monocle.buildbin-libdir && mkdir monocle.buildbin-libdir && /Users/biocbuild/BBS/utils/build-universal.sh monocle_2.30.0.tar.gz /Library/Frameworks/R.framework/Resources/bin/R monocle.buildbin-libdir StartedAt: 2024-03-04 00:51:36 -0500 (Mon, 04 Mar 2024) EndedAt: 2024-03-04 00:52:14 -0500 (Mon, 04 Mar 2024) EllapsedTime: 37.5 seconds RetCode: 0 Status: OK PackageFile: monocle_2.30.0.tgz PackageFileSize: 1.412 MiB