Package: missMethyl Version: 1.36.0 Command: /Library/Frameworks/R.framework/Resources/bin/R CMD build --keep-empty-dirs --no-resave-data missMethyl StartedAt: 2024-04-15 20:04:39 -0400 (Mon, 15 Apr 2024) EndedAt: 2024-04-15 20:30:08 -0400 (Mon, 15 Apr 2024) EllapsedTime: 1529.4 seconds RetCode: 0 Status: OK PackageFile: missMethyl_1.36.0.tar.gz PackageFileSize: 1.63 MiB