Package: mimager Version: 1.26.0 Command: /Library/Frameworks/R.framework/Resources/bin/R CMD build --keep-empty-dirs --no-resave-data mimager StartedAt: 2024-04-15 20:01:30 -0400 (Mon, 15 Apr 2024) EndedAt: 2024-04-15 20:03:28 -0400 (Mon, 15 Apr 2024) EllapsedTime: 117.8 seconds RetCode: 0 Status: OK PackageFile: mimager_1.26.0.tar.gz PackageFileSize: 1006 KiB