Package: miRspongeR Version: 2.6.0 Command: chmod a+r miRspongeR -R && F:\biocbuild\bbs-3.18-bioc\R\bin\R.exe CMD build --keep-empty-dirs --no-resave-data miRspongeR StartedAt: 2024-04-15 19:35:29 -0400 (Mon, 15 Apr 2024) EndedAt: 2024-04-15 19:42:05 -0400 (Mon, 15 Apr 2024) EllapsedTime: 395.3 seconds RetCode: 0 Status: OK PackageFile: miRspongeR_2.6.0.tar.gz PackageFileSize: 646.4 KiB