Package: methylscaper Version: 1.10.0 Command: /home/biocbuild/bbs-3.18-bioc/R/bin/R CMD INSTALL methylscaper StartedAt: 2024-04-15 15:42:53 -0400 (Mon, 15 Apr 2024) EndedAt: 2024-04-15 15:43:22 -0400 (Mon, 15 Apr 2024) EllapsedTime: 28.7 seconds RetCode: 0 Status: OK