Package: methylCC Version: 1.16.0 Command: rm -rf methylCC.buildbin-libdir && mkdir methylCC.buildbin-libdir && F:\biocbuild\bbs-3.18-bioc\R\bin\R.exe CMD INSTALL --build --library=methylCC.buildbin-libdir methylCC_1.16.0.tar.gz StartedAt: 2024-04-16 07:15:56 -0400 (Tue, 16 Apr 2024) EndedAt: 2024-04-16 07:17:03 -0400 (Tue, 16 Apr 2024) EllapsedTime: 67.2 seconds RetCode: 0 Status: OK PackageFile: methylCC_1.16.0.zip PackageFileSize: 4.66 MiB