Package: metabinR Version: 1.4.0 Command: /Library/Frameworks/R.framework/Resources/bin/R CMD INSTALL metabinR StartedAt: 2024-04-15 15:08:46 -0400 (Mon, 15 Apr 2024) EndedAt: 2024-04-15 15:09:11 -0400 (Mon, 15 Apr 2024) EllapsedTime: 25.5 seconds RetCode: 0 Status: OK