Package: megadepth Version: 1.12.0 Command: /home/biocbuild/R/R-4.3.1/bin/R CMD build --keep-empty-dirs --no-resave-data megadepth StartedAt: 2023-11-02 03:04:56 -0000 (Thu, 02 Nov 2023) EndedAt: 2023-11-02 03:05:22 -0000 (Thu, 02 Nov 2023) EllapsedTime: 26.0 seconds RetCode: 1 Status: ERROR PackageFile: None PackageFileSize: NA