Package: matchBox Version: 1.44.0 Command: /Library/Frameworks/R.framework/Resources/bin/R CMD build --keep-empty-dirs --no-resave-data matchBox StartedAt: 2024-03-03 17:15:23 -0500 (Sun, 03 Mar 2024) EndedAt: 2024-03-03 17:15:35 -0500 (Sun, 03 Mar 2024) EllapsedTime: 12.4 seconds RetCode: 0 Status: OK PackageFile: matchBox_1.44.0.tar.gz PackageFileSize: 605.3 KiB