Package: mastR Version: 1.2.3 Command: rm -rf mastR.buildbin-libdir && mkdir mastR.buildbin-libdir && F:\biocbuild\bbs-3.18-bioc\R\bin\R.exe CMD INSTALL --build --library=mastR.buildbin-libdir mastR_1.2.3.tar.gz StartedAt: 2024-04-16 07:14:07 -0400 (Tue, 16 Apr 2024) EndedAt: 2024-04-16 07:15:02 -0400 (Tue, 16 Apr 2024) EllapsedTime: 54.5 seconds RetCode: 0 Status: OK PackageFile: mastR_1.2.3.zip PackageFileSize: 2.014 MiB