Package: maigesPack Version: 1.66.0 Command: rm -rf maigesPack.buildbin-libdir && mkdir maigesPack.buildbin-libdir && /Users/biocbuild/BBS/utils/build-universal.sh maigesPack_1.66.0.tar.gz /Library/Frameworks/R.framework/Resources/bin/R maigesPack.buildbin-libdir StartedAt: 2024-03-04 00:48:35 -0500 (Mon, 04 Mar 2024) EndedAt: 2024-03-04 00:48:59 -0500 (Mon, 04 Mar 2024) EllapsedTime: 24.0 seconds RetCode: 0 Status: OK PackageFile: maigesPack_1.66.0.tgz PackageFileSize: 1.648 MiB