Package: loci2path Version: 1.22.0 Command: /home/biocbuild/R/R-4.3.1/bin/R CMD build --keep-empty-dirs --no-resave-data loci2path StartedAt: 2023-11-02 02:43:23 -0000 (Thu, 02 Nov 2023) EndedAt: 2023-11-02 02:43:48 -0000 (Thu, 02 Nov 2023) EllapsedTime: 25.0 seconds RetCode: 0 Status: OK PackageFile: loci2path_1.22.0.tar.gz PackageFileSize: 621.2 KiB