Package: lfa Version: 2.2.0 Command: /Library/Frameworks/R.framework/Resources/bin/R CMD build --keep-empty-dirs --no-resave-data lfa StartedAt: 2024-03-03 17:12:07 -0500 (Sun, 03 Mar 2024) EndedAt: 2024-03-03 17:12:24 -0500 (Sun, 03 Mar 2024) EllapsedTime: 16.9 seconds RetCode: 0 Status: OK PackageFile: lfa_2.2.0.tar.gz PackageFileSize: 340.9 KiB