Package: kissDE Version: 1.22.0 Command: /home/biocbuild/bbs-3.18-bioc/R/bin/R CMD check --install=check:kissDE.install-out.txt --library=/home/biocbuild/bbs-3.18-bioc/R/site-library --timings kissDE_1.22.0.tar.gz StartedAt: 2024-04-16 00:16:03 -0400 (Tue, 16 Apr 2024) EndedAt: 2024-04-16 00:24:53 -0400 (Tue, 16 Apr 2024) EllapsedTime: 530.2 seconds RetCode: 0 Status: OK CheckDir: kissDE.Rcheck Warnings: 0