Package: isobar Version: 1.48.0 Command: /home/biocbuild/bbs-3.18-bioc/R/bin/R CMD check --install=check:isobar.install-out.txt --library=/home/biocbuild/bbs-3.18-bioc/R/site-library --timings isobar_1.48.0.tar.gz StartedAt: 2024-04-16 00:08:47 -0400 (Tue, 16 Apr 2024) EndedAt: 2024-04-16 00:13:37 -0400 (Tue, 16 Apr 2024) EllapsedTime: 290.3 seconds RetCode: 0 Status: WARNINGS CheckDir: isobar.Rcheck Warnings: 2