Package: immunoClust Version: 1.34.0 Command: F:\biocbuild\bbs-3.18-bioc\R\bin\R.exe CMD INSTALL immunoClust StartedAt: 2024-04-15 15:42:11 -0400 (Mon, 15 Apr 2024) EndedAt: 2024-04-15 15:42:51 -0400 (Mon, 15 Apr 2024) EllapsedTime: 40.3 seconds RetCode: 0 Status: OK