Package: iNETgrate Version: 1.0.0 Command: /Library/Frameworks/R.framework/Resources/bin/R CMD INSTALL iNETgrate StartedAt: 2024-04-15 16:31:35 -0400 (Mon, 15 Apr 2024) EndedAt: 2024-04-15 16:33:39 -0400 (Mon, 15 Apr 2024) EllapsedTime: 123.9 seconds RetCode: 0 Status: OK