Package: hypeR Version: 2.0.0 Command: /home/biocbuild/R/R-4.3.1/bin/R CMD check --install=check:hypeR.install-out.txt --library=/home/biocbuild/R/R-4.3.1/site-library --no-vignettes --timings hypeR_2.0.0.tar.gz StartedAt: 2023-11-02 11:21:57 -0000 (Thu, 02 Nov 2023) EndedAt: 2023-11-02 11:25:49 -0000 (Thu, 02 Nov 2023) EllapsedTime: 231.6 seconds RetCode: 0 Status: WARNINGS CheckDir: hypeR.Rcheck Warnings: 2