Package: hapFabia Version: 1.44.0 Command: /Library/Frameworks/R.framework/Resources/bin/R CMD check --install=check:hapFabia.install-out.txt --library=/Library/Frameworks/R.framework/Resources/library --no-vignettes --timings hapFabia_1.44.0.tar.gz StartedAt: 2024-03-03 21:05:41 -0500 (Sun, 03 Mar 2024) EndedAt: 2024-03-03 21:07:10 -0500 (Sun, 03 Mar 2024) EllapsedTime: 88.5 seconds RetCode: 0 Status: WARNINGS CheckDir: hapFabia.Rcheck Warnings: 1