Package: gsean Version: 1.22.0 Command: /Library/Frameworks/R.framework/Resources/bin/R CMD build --keep-empty-dirs --no-resave-data gsean StartedAt: 2024-04-15 19:12:44 -0400 (Mon, 15 Apr 2024) EndedAt: 2024-04-15 19:14:55 -0400 (Mon, 15 Apr 2024) EllapsedTime: 131.7 seconds RetCode: 0 Status: OK PackageFile: gsean_1.22.0.tar.gz PackageFileSize: 1.535 MiB