Package: gscreend Version: 1.16.1 Command: F:\biocbuild\bbs-3.18-bioc\R\bin\R.exe CMD check --no-multiarch --install=check:gscreend.install-out.txt --library=F:\biocbuild\bbs-3.18-bioc\R\library --no-vignettes --timings gscreend_1.16.1.tar.gz StartedAt: 2024-04-16 01:29:30 -0400 (Tue, 16 Apr 2024) EndedAt: 2024-04-16 01:34:56 -0400 (Tue, 16 Apr 2024) EllapsedTime: 325.3 seconds RetCode: 0 Status: OK CheckDir: gscreend.Rcheck Warnings: 0