Package: granulator Version: 1.10.0 Command: rm -rf granulator.buildbin-libdir && mkdir granulator.buildbin-libdir && F:\biocbuild\bbs-3.18-bioc\R\bin\R.exe CMD INSTALL --build --library=granulator.buildbin-libdir granulator_1.10.0.tar.gz StartedAt: 2024-04-16 07:06:36 -0400 (Tue, 16 Apr 2024) EndedAt: 2024-04-16 07:06:59 -0400 (Tue, 16 Apr 2024) EllapsedTime: 22.9 seconds RetCode: 0 Status: OK PackageFile: granulator_1.10.0.zip PackageFileSize: 921 KiB