Package: ggcyto Version: 1.30.2 Command: F:\biocbuild\bbs-3.18-bioc\R\bin\R.exe CMD check --no-multiarch --install=check:ggcyto.install-out.txt --library=F:\biocbuild\bbs-3.18-bioc\R\library --no-vignettes --timings ggcyto_1.30.2.tar.gz StartedAt: 2024-04-16 01:15:00 -0400 (Tue, 16 Apr 2024) EndedAt: 2024-04-16 01:18:13 -0400 (Tue, 16 Apr 2024) EllapsedTime: 193.5 seconds RetCode: 0 Status: WARNINGS CheckDir: ggcyto.Rcheck Warnings: 2