Package: flowGate Version: 1.2.0 Command: rm -rf flowGate.buildbin-libdir && mkdir flowGate.buildbin-libdir && F:\biocbuild\bbs-3.18-bioc\R\bin\R.exe CMD INSTALL --build --library=flowGate.buildbin-libdir flowGate_1.2.0.tar.gz StartedAt: 2024-04-16 07:01:22 -0400 (Tue, 16 Apr 2024) EndedAt: 2024-04-16 07:01:44 -0400 (Tue, 16 Apr 2024) EllapsedTime: 22.4 seconds RetCode: 0 Status: OK PackageFile: flowGate_1.2.0.zip PackageFileSize: 1.218 MiB