Package: eudysbiome Version: 1.32.0 Command: rm -rf eudysbiome.buildbin-libdir && mkdir eudysbiome.buildbin-libdir && F:\biocbuild\bbs-3.18-bioc\R\bin\R.exe CMD INSTALL --build --library=eudysbiome.buildbin-libdir eudysbiome_1.32.0.tar.gz StartedAt: 2024-04-16 06:59:30 -0400 (Tue, 16 Apr 2024) EndedAt: 2024-04-16 06:59:50 -0400 (Tue, 16 Apr 2024) EllapsedTime: 20.5 seconds RetCode: 0 Status: OK PackageFile: eudysbiome_1.32.0.zip PackageFileSize: 4.26 MiB