Package: esetVis Version: 1.28.2 Command: rm -rf esetVis.buildbin-libdir && mkdir esetVis.buildbin-libdir && F:\biocbuild\bbs-3.18-bioc\R\bin\R.exe CMD INSTALL --build --library=esetVis.buildbin-libdir esetVis_1.28.2.tar.gz StartedAt: 2024-04-16 06:59:28 -0400 (Tue, 16 Apr 2024) EndedAt: 2024-04-16 06:59:54 -0400 (Tue, 16 Apr 2024) EllapsedTime: 26.0 seconds RetCode: 0 Status: OK PackageFile: esetVis_1.28.2.zip PackageFileSize: 2.757 MiB