Package: esetVis Version: 1.28.2 Command: rm -rf esetVis.buildbin-libdir && mkdir esetVis.buildbin-libdir && /Users/biocbuild/BBS/utils/build-universal.sh esetVis_1.28.2.tar.gz /Library/Frameworks/R.framework/Resources/bin/R esetVis.buildbin-libdir StartedAt: 2024-04-16 11:38:49 -0400 (Tue, 16 Apr 2024) EndedAt: 2024-04-16 11:39:49 -0400 (Tue, 16 Apr 2024) EllapsedTime: 60.1 seconds RetCode: 0 Status: OK PackageFile: esetVis_1.28.2.tgz PackageFileSize: 4.604 MiB