Package: epigraHMM Version: 1.10.0 Command: /Library/Frameworks/R.framework/Resources/bin/R CMD build --keep-empty-dirs --no-resave-data epigraHMM StartedAt: 2024-04-15 18:31:43 -0400 (Mon, 15 Apr 2024) EndedAt: 2024-04-15 18:48:21 -0400 (Mon, 15 Apr 2024) EllapsedTime: 998.5 seconds RetCode: 0 Status: OK PackageFile: epigraHMM_1.10.0.tar.gz PackageFileSize: 734.8 KiB