Package: epialleleR Version: 1.10.0 Command: /Library/Frameworks/R.framework/Resources/bin/R CMD INSTALL epialleleR StartedAt: 2024-03-03 15:21:12 -0500 (Sun, 03 Mar 2024) EndedAt: 2024-03-03 15:23:27 -0500 (Sun, 03 Mar 2024) EllapsedTime: 135.3 seconds RetCode: 0 Status: OK