Package: dmrseq Version: 1.22.1 Command: rm -rf dmrseq.buildbin-libdir && mkdir dmrseq.buildbin-libdir && F:\biocbuild\bbs-3.18-bioc\R\bin\R.exe CMD INSTALL --build --library=dmrseq.buildbin-libdir dmrseq_1.22.1.tar.gz StartedAt: 2024-04-16 06:56:16 -0400 (Tue, 16 Apr 2024) EndedAt: 2024-04-16 06:57:22 -0400 (Tue, 16 Apr 2024) EllapsedTime: 66.0 seconds RetCode: 0 Status: OK PackageFile: dmrseq_1.22.1.zip PackageFileSize: 4.675 MiB