Package: dittoSeq Version: 1.14.3 Command: /Library/Frameworks/R.framework/Resources/bin/R CMD build --keep-empty-dirs --no-resave-data dittoSeq StartedAt: 2024-04-15 18:19:45 -0400 (Mon, 15 Apr 2024) EndedAt: 2024-04-15 18:25:23 -0400 (Mon, 15 Apr 2024) EllapsedTime: 338.1 seconds RetCode: 0 Status: OK PackageFile: dittoSeq_1.14.3.tar.gz PackageFileSize: 3.278 MiB