Package: crisprseekplus Version: 1.28.0 Command: /home/biocbuild/R/R-4.3.1/bin/R CMD INSTALL crisprseekplus StartedAt: 2023-11-01 20:59:51 -0000 (Wed, 01 Nov 2023) EndedAt: 2023-11-01 21:00:57 -0000 (Wed, 01 Nov 2023) EllapsedTime: 66.4 seconds RetCode: 0 Status: OK