Package: crisprseekplus Version: 1.28.0 Command: /home/biocbuild/R/R-4.3.1/bin/R CMD check --install=check:crisprseekplus.install-out.txt --library=/home/biocbuild/R/R-4.3.1/site-library --no-vignettes --timings crisprseekplus_1.28.0.tar.gz StartedAt: 2023-11-02 09:40:10 -0000 (Thu, 02 Nov 2023) EndedAt: 2023-11-02 09:40:45 -0000 (Thu, 02 Nov 2023) EllapsedTime: 34.9 seconds RetCode: 1 Status: ERROR CheckDir: crisprseekplus.Rcheck Warnings: NA