Package: crisprseekplus Version: 1.28.0 Command: /home/biocbuild/R/R-4.3.1/bin/R CMD build --keep-empty-dirs --no-resave-data crisprseekplus StartedAt: 2023-11-01 23:50:50 -0000 (Wed, 01 Nov 2023) EndedAt: 2023-11-01 23:51:54 -0000 (Wed, 01 Nov 2023) EllapsedTime: 64.1 seconds RetCode: 0 Status: OK PackageFile: crisprseekplus_1.28.0.tar.gz PackageFileSize: 343.3 KiB