Package: crisprVerse Version: 1.4.0 Command: /Library/Frameworks/R.framework/Resources/bin/R CMD check --install=check:crisprVerse.install-out.txt --library=/Library/Frameworks/R.framework/Resources/library --no-vignettes --timings crisprVerse_1.4.0.tar.gz StartedAt: 2024-04-16 01:22:10 -0400 (Tue, 16 Apr 2024) EndedAt: 2024-04-16 01:34:11 -0400 (Tue, 16 Apr 2024) EllapsedTime: 721.7 seconds RetCode: 0 Status: OK CheckDir: crisprVerse.Rcheck Warnings: 0