Package: concordexR Version: 1.2.0 Command: /Library/Frameworks/R.framework/Resources/bin/R CMD INSTALL concordexR StartedAt: 2024-04-15 15:32:52 -0400 (Mon, 15 Apr 2024) EndedAt: 2024-04-15 15:33:33 -0400 (Mon, 15 Apr 2024) EllapsedTime: 41.0 seconds RetCode: 0 Status: OK