Package: clusterExperiment Version: 2.22.0 Command: F:\biocbuild\bbs-3.18-bioc\R\bin\R.exe CMD INSTALL clusterExperiment StartedAt: 2024-04-15 16:35:04 -0400 (Mon, 15 Apr 2024) EndedAt: 2024-04-15 16:37:08 -0400 (Mon, 15 Apr 2024) EllapsedTime: 123.6 seconds RetCode: 0 Status: OK