Package: cliqueMS Version: 1.16.0 Command: rm -rf cliqueMS.buildbin-libdir && mkdir cliqueMS.buildbin-libdir && F:\biocbuild\bbs-3.18-bioc\R\bin\R.exe CMD INSTALL --build --library=cliqueMS.buildbin-libdir cliqueMS_1.16.0.tar.gz StartedAt: 2024-03-06 08:26:45 -0500 (Wed, 06 Mar 2024) EndedAt: 2024-03-06 08:28:36 -0500 (Wed, 06 Mar 2024) EllapsedTime: 111.1 seconds RetCode: 0 Status: OK PackageFile: cliqueMS_1.16.0.zip PackageFileSize: 1.326 MiB